Workbook
Name eff: #REF!
Name effdr: #REF!
Name EffDtTm: #REF!
Name Error_BankStmt: #REF!
Name Error_BankStmt: #REF!
Name Error_BankStmt: #REF!
Name Error_BankStmt: #REF!
Name Error_BankStmt: #REF!
Name Error_BankStmt: #REF!
Name Error_BankStmt: #REF!
Name Error_BankStmt: #REF!
Name Error_BankStmt: #REF!
Name Error_BankStmt: #REF!
Name Error_DSCR: #REF!
Name Error_DSCR: #REF!
Name Error_DSCR: #REF!
Name Error_DSCR: #REF!
Name Error_DSCR: #REF!
Name Error_DSCR: #REF!
Name Error_DSCR: #REF!
Name Error_DSCR: #REF!
Name Error_DSCR: #REF!
Name Error_DSCR: #REF!
Name Error_DTI: #REF!
Name Error_DTI: #REF!
Name Error_DTI: #REF!
Name Error_DTI: #REF!
Name Error_DTI: #REF!
Name Error_DTI: #REF!
Name Error_DTI: #REF!
Name Error_DTI: #REF!
Name Error_DTI: #REF!
Name Error_DTI: #REF!
Name exp: #REF!
Name ExpDts: #REF!
Name expdtss: #REF!
Name IA: #REF!
Name IA_1: #REF!
Name IA_2: #REF!
Name IA_3: #REF!
Name Input_purpose: #REF!
Name IPA: #REF!
Name IPAm: #REF!
Name july18: #REF!
Name july181: #REF!
Name july182: #REF!
Name List_AmortTerm: #REF!
Name List_AmortTerm: #REF!
Name List_AmortTerm: #REF!
Name List_AmortTerm: #REF!
Name List_AmortTerm: #REF!
Name List_AmortTerm: #REF!
Name List_AmortTerm: #REF!
Name List_AmortTerm: #REF!
Name List_AmortTerm: #REF!
Name List_AmortTerm: #REF!
Name List_AmortType: #REF!
Name List_AmortType: #REF!
Name List_AmortType: #REF!
Name List_AmortType: #REF!

Sheet Cover Noni
F9: Effective Date: | H9: 46329
B12: theLender Non-QM Business Purpose Rate Sheet
B14: LOCK DESK | I14: APPRAISAL ORDER PROCEDURES
J16: AMC selection can be made at: https://www.thelender.com/appraisals/
C18: CONTACT:
C19: E-mail: | D19: pricingdesk@thelender.com
C20: Direct: | D20: 833-381-8733
C21: Lock Desk Closes at 5:00 PM PST
B25: TABLE OF CONTENTS | I25: NON QM Fees
C28: Noni Near Noni Products | I28: Underwriting Fee: $2,095
C29: theNONI | G29: Page 2 | I29: *Doc Prep Fee: $599 (Business Purpose Only)
C30: Foreign National NONI | G30: Page 3
C31: Business Purpose Matrix | G31: Page 4
C32: Foreign National NONI Matrix | G32: Page 9
E38: *EXTENSION FEES
E40: NON QM
G41: 5 day | J41: -0.125
G42: 7 day | J42: -0.175
G43: 10 day | J43: -0.25
G44: 15 day | J44: -0.375
E46: *3 total lock extensions allowed, up to 30 days
B48: Eligible States
C50: AK*, AL, AR, AZ, CA, CO, CT, DC, DE, FL, GA, HI, IA, ID, IL, IN, KS*, KY, LA, MA, MD, ME, MI*, MN*, MO, MS, MT,
C51: NC, ND, NE, NH, NJ, NM*, NV, NY, OH*, OK, OR, PA, RI*, SC, SD, TN, TX, UT, VA, VT, WA, WI, WV, WY
C53: *See Matrix for restrictions and additional details regarding Prepayment Penalty
B72: LOSS PAYEE
B74: Hometown Equity Mortgage, LLC dba theLender its successors and/or assigns
B75: 25531 Commercentre Dr #250, Lake Forest, CA 92630
B76: For use by mortgage professionals only. Mortgage Financing Provided by Hometown Equity Mortgage, LLC dba theLender NMLS #133519 . Rates, terms and programs subject to change without notice.

Sheet NONI
J2: Effective Date: | L2: =NOW() -> 46329.345
K3: Wholesale Rate Sheet
L5: Page 2
A10: theNONI | P10: *NONIPricer | R10: 46329.345
C12: 15 Day Price | P12: Category | Q12: Inputs | R12: Price
B13: Rate | C13: 7/6 ARM | D13: 10/6 ARM | E13: 30YR FIXED | G13: MAX PRICE | K13: LOCK TERMS
B14: =margins!A5 -> 6.75 | C14: 96.1735 | D14: 96.0735 | E14: 96.0735 | G14: Prepay Term | I14: Max Price | K14: 30 Day Lock | M14: 0 | P14: Product | Q14: 30 Yr Fx
B15: =margins!A6 -> 6.875 | C15: 97.1435 | D15: 97.0435 | E15: 97.0435 | G15: 60 Months | I15: 102.25 | K15: 45 Day Lock | M15: -0.375 | P15: Interest Rate ---> | Q15: 6.875 | R15: =IF(Q14="7/6 Arm",VLOOKUP(Q15,$B$14:$E$42,2,FALSE),IF(Q14="10/6 Arm",VLOOKUP(Q15,$B$14:$E$42,3,FALSE),VLOOKUP(Q15,$B$14:$E$43,4,FALSE))) -> 97.0435
B16: =margins!A7 -> 7 | C16: 98.081 | D16: 97.981 | E16: 97.981 | G16: 48 Months | I16: 102.25 | P16: CLTV Range | Q16: Choose a Selection
B17: =margins!A8 -> 7.125 | C17: 99.01825 | D17: 98.91825 | E17: 98.91825 | G17: 36 Months | I17: 102.25 | K17: PREPAY PENALTY NOTES | P17: FICO Range | Q17: Choose a Selection | R17: =IFERROR(INDEX($F$51:$M$58,MATCH(Q17,$C$51:$C$58,0),MATCH(Q16,$F$50:$M$50,0),1),0) -> 0
B18: =margins!A9 -> 7.25 | C18: 99.9565 | D18: 99.8565 | E18: 99.8565 | G18: 24 Months | I18: 101.75 | K18: 1. AK, KS, MI, MN, NM, OH, & RI must buyout PPP | P18: DSCR | Q18: Choose a Selection | R18: =IFERROR(INDEX($F$59:$M$63,MATCH(Q18,$C$59:$C$63,0),MATCH(Q16,$F$50:$M$50,0),1),0) -> 0
B19: =margins!A10 -> 7.375 | C19: 100.89375 | D19: 100.79375 | E19: 100.79375 | G19: 12 Months | I19: 101.5 | P19: Housing History | Q19: Choose a Selection | R19: =IFERROR(INDEX($F$68:$M$105,MATCH(Q19,$C$68:$C$105,0),MATCH($Q$16,$F$67:$M$67,0),1),0) -> 0
B20: =margins!A11 -> 7.5 | C20: 101.7065 | D20: 101.6065 | E20: 101.6065 | G20: No Penalty | I20: 100 | K20: 2. IL & NJ -Prepayment penalties not allowed on loans vested to individuals | P20: Housing Events | Q20: Choose a Selection | R20: =IFERROR(INDEX($F$68:$M$105,MATCH(Q20,$C$68:$C$105,0),MATCH($Q$16,$F$67:$M$67,0),1),0) -> 0
B21: =margins!A12 -> 7.625 | C21: 102.51925 | D21: 102.41925 | E21: 102.41925 | G21: DSCR | I21: Max Price | P21: Loan Balance | Q21: Choose a Selection | R21: =IFERROR(INDEX($F$68:$M$105,MATCH(Q21,$C$68:$C$105,0),MATCH($Q$16,$F$67:$M$67,0),1),0) -> 0
B22: =margins!A13 -> 7.75 | C22: 103.238 | D22: 103.138 | E22: 103.138 | G22: <.75 | I22: 99 | K22: 3. PA - Loan amounts < $329,411 cannot have a prepayment penalty | P22: Purpose | Q22: Choose a Selection | R22: =IFERROR(INDEX($F$68:$M$105,MATCH(Q22,$C$68:$C$105,0),MATCH($Q$16,$F$67:$M$67,0),1),0) -> 0
B23: =margins!A14 -> 7.875 | C23: 103.863 | D23: 103.763 | E23: 103.763 | G23: Loan Amount | I23: Max Price | P23: Property Type | Q23: Choose a Selection | R23: =IFERROR(INDEX($F$68:$M$105,MATCH(Q23,$C$68:$C$105,0),MATCH($Q$16,$F$67:$M$67,0),1),0) -> 0
B24: =margins!A15 -> 8 | C24: 104.4255 | D24: 104.3255 | E24: 104.3255 | G24: > 2.5mm | I24: 100.5 | K24: 4. Only declining prepayment penalty structures allowed in MS | P24: 40 Year Term | Q24: Choose a Selection | R24: =IFERROR(INDEX($F$68:$M$105,MATCH(Q24,$C$68:$C$105,0),MATCH($Q$16,$F$67:$M$67,0),1),0) -> 0
B25: =margins!A16 -> 8.125 | C25: 104.89425 | D25: 104.79425 | E25: 104.79425 | G25: CLTV | I25: Max Price | P25: Interest Only | Q25: Choose a Selection | R25: =IFERROR(INDEX($F$68:$M$105,MATCH(Q25,$C$68:$C$105,0),MATCH($Q$16,$F$67:$M$67,0),1),0) -> 0
B26: =margins!A17 -> 8.25 | C26: 105.363 | D26: 105.263 | E26: 105.263 | G26: CLTV > 80% | I26: 101 | P26: 5% PPP | Q26: Choose a Selection | R26: =IFERROR(INDEX($F$68:$M$105,MATCH(Q26,$C$68:$C$105,0),MATCH($Q$16,$F$67:$M$67,0),1),0) -> 0
B27: =margins!A18 -> 8.375 | C27: 105.8005 | D27: 105.7005 | E27: 105.7005 | P27: Other PPP | Q27: Choose a Selection | R27: =IFERROR(INDEX($F$95:$M$100,MATCH(Q27,$C$95:$C$100,0),MATCH($Q$16,$F$67:$M$67,0),1),0) -> 0
B28: =margins!A19 -> 8.5 | C28: 106.20675 | D28: 106.10675 | E28: 106.10675 | G28: ARM TERMS | P28: Escrow Waiver | Q28: Choose a Selection | R28: =IFERROR(INDEX($F$68:$M$105,MATCH(Q28,$C$68:$C$105,0),MATCH($Q$16,$F$67:$M$67,0),1),0) -> 0
B29: =margins!A20 -> 8.625 | C29: 106.613 | D29: 106.513 | E29: 106.513 | G29: Term | H29: 7/6 & 10/6 ARM | P29: ACH Waiver | Q29: Choose a Selection | R29: =IFERROR(INDEX($F$68:$M$105,MATCH(Q29,$C$68:$C$105,0),MATCH($Q$16,$F$67:$M$67,0),1),0) -> 0
B30: =margins!A21 -> 8.75 | C30: 107.01925 | D30: 106.91925 | E30: 106.91925 | G30: Margin | H30: 4.5 | P30: State Adj | Q30: Choose a Selection | R30: =IFERROR(INDEX($F$68:$M$105,MATCH(Q30,$C$68:$C$105,0),MATCH($Q$16,$F$67:$M$67,0),1),0) -> 0
B31: =margins!A22 -> 8.875 | C31: 107.4255 | D31: 107.3255 | E31: 107.3255 | G31: Index | H31: 30 Day Average SOFR | P31: STR | Q31: Choose a Selection | R31: =IFERROR(INDEX($F$68:$M$105,MATCH(Q31,$C$68:$C$105,0),MATCH($Q$16,$F$67:$M$67,0),1),0) -> 0
B32: =margins!A23 -> 9 | C32: 107.83175 | D32: 107.73175 | E32: 107.73175 | G32: Caps | H32: 2/1/5 | P32: FTHB | Q32: Choose a Selection | R32: =IFERROR(INDEX($F$68:$M$105,MATCH(Q32,$C$68:$C$105,0),MATCH($Q$16,$F$67:$M$67,0),1),0) -> 0
B33: =margins!A24 -> 9.125 | C33: 108.14425 | D33: 108.04425 | E33: 108.04425 | G33: Adj. Period | H33: 6 Months | P33: Lock Period | Q33: Choose a Selection | R33: =IF(Q33=15,0,IF(Q33=30,M14,IF(Q33=45,M15,0))) -> 0
B34: =margins!A25 -> 9.25 | C34: 108.45675 | D34: 108.35675 | E34: 108.35675 | P34: Pricing Special | Q34: Choose a Selection | R34: =_xlfn.IFNA(VLOOKUP(Q34,G36:J39,4,0), 0) -> 0
B35: =margins!A26 -> 9.375 | C35: 108.76925 | D35: 108.66925 | E35: 108.66925 | G35: =TEXT(TODAY(), "mmmm") & " Special" -> November Special | P35: Total LLPAs | R35: =SUM(R17:R34) -> 0
B36: =margins!A27 -> 9.5 | C36: 109.08175 | D36: 108.98175 | E36: 108.98175 | G36: *Purchase with 5 year PrePay | J36: 0.75
B37: =margins!A28 -> 9.625 | C37: 109.363 | D37: 109.263 | E37: 109.263 | G37: *Purchase with 3 year PrePay | J37: 0.5 | P37: Final Price ---> | R37: =IF(ISNUMBER(MATCH("NA", R17:R34, 0)), "NA", IF(Q18="<.75",MIN(I22,R35+R15),IF(OR(Q21="2,500,001-3,000,000",Q21="3,000,001-3,500,000"), MIN(I24, R35+R15), IF(Q16="80.01-85.00", MIN(I26, R35+R15), IF(AND(Q26="Choose a Selection",Q27<>"Choose a Selection"),(MIN(R35+R15,VLOOKUP($Q$27,$G$15:$I$20,3,FALSE))),IF(AND(Q27="Choose a Selection",Q26<>"Choose a Selection"),MIN(R35+R15,VLOOKUP($Q$26,$G$15:$I$20,3,FALSE)),IF(AND(Q26="Choose a Selection",Q27="Choose a Selection"),R15+R35))))))) -> 97.0435
B38: =margins!A29 -> 9.75 | C38: 109.64425 | D38: 109.54425 | E38: 109.54425 | G38: *Cash Out Refinance with 5 year PrePay | J38: 0.5
B39: =margins!A30 -> 9.875 | C39: 109.9255 | D39: 109.8255 | E39: 109.8255 | G39: *Cash Out Refinance with 3 year PrePay | J39: 0.25 | P39: *NONI Pricer is a pricing tool only, please refer to the matrix for eligibility
B40: =margins!A31 -> 10 | C40: 110.20675 | D40: 110.10675 | E40: 110.10675 | G40: *Specials do not apply for DSCR < .75
B41: =margins!A32 -> 10.125 | C41: 110.45675 | D41: 110.35675 | E41: 110.35675 | G41: *Specials do not apply for Foreign Nationals
B42: =margins!A33 -> 10.25 | C42: 110.70675 | D42: 110.60675 | E42: 110.60675 | G42: * Max Loan Amount $1.25MM
B49: Price Adjustments | F49: CLTV
E50: Choose a Selection | F50: <=50.00 | G50: 50.01-55.00 | H50: 55.01-60.00 | I50: 60.01-65.00 | J50: 65.01-70.00 | K50: 70.01-75.00 | L50: 75.01-80.00 | M50: 80.01-85.00
B51: DSCR | C51: 760+ | F51: 0 | G51: -0.25 | H51: -0.5 | I51: -0.625 | J51: -0.75 | K51: -1.625 | L51: -2.125 | M51: -6
C52: 740-759 | F52: -0.25 | G52: -0.5 | H52: -0.75 | I52: -0.75 | J52: -0.875 | K52: -1.875 | L52: -2.375 | M52: -6.5
C53: 720-739 | F53: -0.5 | G53: -0.75 | H53: -1 | I53: -1 | J53: -1.125 | K53: -2.125 | L53: -3.25 | M53: -7
...

Sheet FN NONI
C2: Foreign National NONI
I3: =TODAY() -> 46329 | J3: =TODAY() -> 46329
B7: 15 Day Price | F7: Prepay Min/Max Price | L7: *Foreign National NONI Pricer | N7: 46329.345
A8: Note Rate | B8: 7/6 ARM | C8: 10/ 6 ARM | D8: 30 Yr Fx | F8: Prepay Term | G8: Max Price
A9: =margins!J5 -> 6.75 | B9: 93.789 | C9: 93.689 | D9: 93.689 | F9: 60 Months | G9: 102 | L9: Category | M9: Inputs | N9: Price
A10: =margins!J6 -> 6.875 | B10: 94.789 | C10: 94.689 | D10: 94.689 | F10: 48 Months | G10: 102
A11: =margins!J7 -> 7 | B11: 95.789 | C11: 95.689 | D11: 95.689 | F11: 36 Months | G11: 102 | L11: Product | M11: 30 Yr Fx
A12: =margins!J8 -> 7.125 | B12: 96.726 | C12: 96.626 | D12: 96.626 | F12: 24 Months | G12: 101.5 | L12: Interest Rate ---> | M12: 7.875 | N12: =IF(M11="7/6 Arm",VLOOKUP(M12,$A$8:$D$37,2,FALSE),IF(M11="10/6 Arm",VLOOKUP(M12,$A$8:$D$37,3,FALSE),VLOOKUP(M12,$A$8:$D$37,4,FALSE))) -> 101.626
A13: =margins!J9 -> 7.25 | B13: 97.664 | C13: 97.564 | D13: 97.564 | F13: 12 Months | G13: 99.5 | L13: CLTV Range | M13: 50.01-55.00
A14: =margins!J10 -> 7.375 | B14: 98.601 | C14: 98.501 | D14: 98.501 | F14: No Penalty | G14: 98.5 | L14: FICO Range | M14: Choose a Selection | N14: =IFERROR(INDEX($C$42:$H$43,MATCH(M14,B42:B43,0),MATCH(M13,C41:H41,0),1),0) -> 0
A15: =margins!J11 -> 7.5 | B15: 99.476 | C15: 99.376 | D15: 99.376 | L15: DSCR | M15: 1.00-1.24 | N15: =IFERROR(INDEX($C$44:$H$45,MATCH(M15,B44:B45,0),MATCH(M13,$C$41:$H$41,0),1),0) -> 0
A16: =margins!J12 -> 7.625 | B16: 100.351 | C16: 100.251 | D16: 100.251 | F16: PREPAY PENALTY NOTES | L16: Loan Balance | M16: $250,001 - $500,000 | N16: =IFERROR(INDEX($C$50:$H$76,MATCH(M16,$B$50:$B$76,0),MATCH($M$13,$C$41:$H$41,0),1),0) -> 0
A17: =margins!J13 -> 7.75 | B17: 101.039 | C17: 100.939 | D17: 100.939 | F17: 1. AK, KS, MI, MN, NM, OH, & RI must buyout PPP | L17: Purpose | M17: Choose a Selection | N17: =IFERROR(INDEX($C$50:$H$76,MATCH(M17,$B$50:$B$76,0),MATCH($M$13,$C$41:$H$41,0),1),0) -> 0
A18: =margins!J14 -> 7.875 | B18: 101.726 | C18: 101.626 | D18: 101.626 | L18: Property Type | M18: Choose a Selection | N18: =IFERROR(INDEX($C$50:$H$76,MATCH(M18,$B$50:$B$76,0),MATCH($M$13,$C$41:$H$41,0),1),0) -> 0
A19: =margins!J15 -> 8 | B19: 102.383 | C19: 102.283 | D19: 102.283 | F19: 2. IL & NJ -Prepayment penalties not allowed on loans vested to individuals | L19: 40 Year Term | M19: Choose a Selection | N19: =IFERROR(INDEX($C$50:$H$76,MATCH(M19,$B$50:$B$76,0),MATCH($M$13,$C$41:$H$41,0),1),0) -> 0
A20: =margins!J16 -> 8.125 | B20: 103.008 | C20: 102.908 | D20: 102.908 | L20: Interest Only | M20: Choose a Selection | N20: =IFERROR(INDEX($C$50:$H$76,MATCH(M20,$B$50:$B$76,0),MATCH($M$13,$C$41:$H$41,0),1),0) -> 0
A21: =margins!J17 -> 8.25 | B21: 103.602 | C21: 103.502 | D21: 103.502 | F21: 3. PA - Loan amounts < $329,411 cannot have a prepayment penalty | L21: 5% PPP | M21: Choose a Selection | N21: =IFERROR(INDEX($C$50:$H$76,MATCH(M21,$B$50:$B$76,0),MATCH($M$13,$C$41:$H$41,0),1),0) -> 0
A22: =margins!J18 -> 8.375 | B22: 104.133 | C22: 104.033 | D22: 104.033 | L22: Other Allowable PPP | M22: Choose a Selection | N22: =IFERROR(INDEX($C$67:$H$76,MATCH(M22,$B$67:$B$76,0),MATCH($M$13,$C$41:$H$41,0),1),0) -> 0
A23: =margins!J19 -> 8.5 | B23: 104.633 | C23: 104.533 | D23: 104.533 | F23: 4. Only declining prepayment penalty structures allowed in MS | L23: Escrow Waiver | M23: Choose a Selection | N23: =IFERROR(INDEX($C$50:$H$76,MATCH(M23,$B$50:$B$76,0),MATCH($M$13,$C$41:$H$41,0),1),0) -> 0
A24: =margins!J20 -> 8.625 | B24: 105.071 | C24: 104.971 | D24: 104.971 | L24: STR | M24: Choose a Selection | N24: =IFERROR(INDEX($C$50:$H$76,MATCH(M24,$B$50:$B$76,0),MATCH($M$13,$C$41:$H$41,0),1),0) -> 0
A25: =margins!J21 -> 8.75 | B25: 105.508 | C25: 105.408 | D25: 105.408 | L25: < 12 Months Reserves | M25: Choose a Selection | N25: =IFERROR(INDEX($C$50:$H$76,MATCH(M25,$B$50:$B$76,0),MATCH($M$13,$C$41:$H$41,0),1),0) -> 0
A26: =margins!J22 -> 8.875 | B26: 105.946 | C26: 105.846 | D26: 105.846 | L26: State Adj | M26: Choose a Selection | N26: =IFERROR(INDEX($C$50:$H$76,MATCH(M26,$B$50:$B$76,0),MATCH($M$13,$C$41:$H$41,0),1),0) -> 0
A27: =margins!J23 -> 9 | B27: 106.383 | C27: 106.283 | D27: 106.283 | L27: Lock Period | M27: Choose a Selection | N27: =_xlfn.IFNA(VLOOKUP(M27,$F$37:$G$38, 2,0), 0) -> 0
A28: =margins!J24 -> 9.125 | B28: 106.758 | C28: 106.658 | D28: 106.658 | L28: Total LLPAs | N28: =SUM(N14:N27) -> 0
A29: =margins!J25 -> 9.25 | B29: 107.133 | C29: 107.033 | D29: 107.033
A30: =margins!J26 -> 9.375 | B30: 107.445 | C30: 107.345 | D30: 107.345 | F30: ARM Requirements | L30: Final Price ---> | N30: =IF(ISNUMBER(MATCH("NA",N14:N27,0)),"NA",IF(AND(M21="Choose a Selection",M22<>"Choose a Selection"),(MIN(N28+N12,VLOOKUP($M$22,$F$9:$G$14,2,FALSE))),IF(AND(M22="Choose a Selection",M21<>"Choose a Selection"),MIN(N28+N12,VLOOKUP($M$21,$F$9:$G$14,2,FALSE)),IF(AND(M21="Choose a Selection",M22="Choose a Selection"),N12+N28)))) -> 101.626
A31: =margins!J27 -> 9.5 | B31: 107.758 | C31: 107.658 | D31: 107.658 | F31: ARM Index | G31: SOFR 30AVG
A32: =margins!J28 -> 9.625 | B32: 108.071 | C32: 107.971 | D32: 107.971 | F32: ARM Margin | G32: 4.5 | L32: *Foreign National NONI Pricer is a pricing tool only, please refer to the matrix for eligibility
A33: =margins!J29 -> 9.75 | B33: 108.383 | C33: 108.283 | D33: 108.283 | F33: 7yr/10yr ARM Caps | G33: 2/1/5
A34: =margins!J30 -> 9.875 | B34: 108.696 | C34: 108.596 | D34: 108.596 | F34: Reset Frequency | G34: 6 mo
A35: =margins!J31 -> 10 | B35: 108.946 | C35: 108.846 | D35: 108.846
A36: =margins!J32 -> 10.125 | B36: 109.196 | C36: 109.096 | D36: 109.096 | F36: Lock Period Adjustments | H36: ACH Requirement
A37: =margins!J33 -> 10.25 | B37: 109.446 | C37: 109.346 | D37: 109.346 | F37: 30 days | G37: 0 | H37: ACH required; account must be domestic
F38: 45 days | G38: -0.375
A40: FICO/CLTV LLPAs (Price Adjustments)
A41: DSCR | B41: Choose a Selection | C41: <=50.00 | D41: 50.01-55.00 | E41: 55.01-60.00 | F41: 60.01-65.00 | G41: 65.01-70.00 | H41: 70.01-75.00
B42: 680+ | C42: 0.5 | D42: 0.125 | E42: -0.125 | F42: -1 | G42: -2.5 | H42: -3.75
B43: No Credit Score | C43: 0.5 | D43: 0.125 | E43: -0.125 | F43: -1 | G43: -2.5 | H43: -3.75
A44: DSCR Additional Adjustments | B44: >=1.25 | C44: 0.5 | D44: 0.5 | E44: 0.5 | F44: 0.625 | G44: 0.625 | H44: 0.625
B45: 1.00-1.24 | C45: 0 | D45: 0 | E45: 0 | F45: 0 | G45: 0 | H45: 0
...

Sheet FNNONITest
J2: Effective Date: | L2: =NOW() -> 46329.345
K3: Wholesale Rate Sheet
L5: Page 3
A10: Foreign National NONI | P10: *Foreign National NONI Pricer
C12: 15 Day Price | P12: Category | Q12: Inputs | R12: Price
B13: Rate | C13: 7/6 ARM | D13: 10/6 ARM | E13: 30YR FIXED | G13: MAX PRICE | K13: LOCK TERMS
B14: =margins!J5 -> 6.75 | C14: 93.789 | D14: 93.689 | E14: 93.689 | G14: Prepay Term | I14: Max Price | K14: 30 Day Lock | M14: 0 | P14: Product | Q14: 30 Yr Fx
B15: =margins!J6 -> 6.875 | C15: 94.789 | D15: 94.689 | E15: 94.689 | G15: 60 Months | I15: 102 | K15: 45 Day Lock | M15: -0.375 | P15: Interest Rate ---> | Q15: 7.875 | R15: =IF(Q14="7/6 Arm",VLOOKUP(Q15,$B$14:$E$43,2,FALSE),IF(Q14="10/6 Arm",VLOOKUP(Q15,$B$14:$E$43,3,FALSE),VLOOKUP(Q15,$B$14:$E$43,4,FALSE))) -> 101.626
B16: =margins!J7 -> 7 | C16: 95.789 | D16: 95.689 | E16: 95.689 | G16: 48 Months | I16: 102 | P16: CLTV Range | Q16: 50.01-55.00
B17: =margins!J8 -> 7.125 | C17: 96.726 | D17: 96.626 | E17: 96.626 | G17: 36 Months | I17: 102 | P17: FICO Range | Q17: No Credit Score | R17: =IFERROR(INDEX($F$47:$K$48,MATCH(Q17,$C$47:$E$48,0),MATCH($Q$16,$F$46:$K$46,0),1),0) -> 0
B18: =margins!J9 -> 7.25 | C18: 97.664 | D18: 97.564 | E18: 97.564 | G18: 24 Months | I18: 101.5 | K18: PREPAY PENALTY NOTES | P18: DSCR | Q18: Choose a Selection | R18: =IFERROR(INDEX($F$49:$K$50,MATCH(Q18,$C$49:$E$50,0),MATCH($Q$16,$F$46:$K$46,0),1),0) -> 0
B19: =margins!J10 -> 7.375 | C19: 98.601 | D19: 98.501 | E19: 98.501 | G19: 12 Months | I19: 99.5 | K19: 1. AK, KS, MI, MN, NM, OH, & RI must buyout PPP | P19: Loan Balance | Q19: $250,001 - $500,000 | R19: =IFERROR(INDEX($F$55:$K$81,MATCH(Q19,$C$55:$C$81,0),MATCH($Q$16,$F$54:$K$54,0),1),0) -> 0
B20: =margins!J11 -> 7.5 | C20: 99.476 | D20: 99.376 | E20: 99.376 | G20: No Penalty | I20: 98.5 | P20: Purpose | Q20: Choose a Selection | R20: =IFERROR(INDEX($F$55:$K$81,MATCH(Q20,$C$55:$C$81,0),MATCH($Q$16,$F$54:$K$54,0),1),0) -> 0
B21: =margins!J12 -> 7.625 | C21: 100.351 | D21: 100.251 | E21: 100.251 | K21: 2. IL & NJ -Prepayment penalties not allowed on loans vested to individuals | P21: Property Type | Q21: Choose a Selection | R21: =IFERROR(INDEX($F$55:$K$81,MATCH(Q21,$C$55:$C$81,0),MATCH($Q$16,$F$54:$K$54,0),1),0) -> 0
B22: =margins!J13 -> 7.75 | C22: 101.039 | D22: 100.939 | E22: 100.939 | P22: 40 Year Term | Q22: Choose a Selection | R22: =IFERROR(INDEX($F$55:$K$81,MATCH(Q22,$C$55:$C$81,0),MATCH($Q$16,$F$54:$K$54,0),1),0) -> 0
B23: =margins!J14 -> 7.875 | C23: 101.726 | D23: 101.626 | E23: 101.626 | G23: ARM TERMS | K23: 3. PA - Loan amounts < $319,777 cannot have a prepayment penalty | P23: Interest Only | Q23: Choose a Selection | R23: =IFERROR(INDEX($F$55:$K$81,MATCH(Q23,$C$55:$C$81,0),MATCH($Q$16,$F$54:$K$54,0),1),0) -> 0
B24: =margins!J15 -> 8 | C24: 102.383 | D24: 102.283 | E24: 102.283 | G24: Term | H24: 7/6 & 10/6 ARM | P24: 5% PPP | Q24: Choose a Selection | R24: =IFERROR(INDEX($F$55:$K$81,MATCH(Q24,$C$55:$C$81,0),MATCH($Q$16,$F$54:$K$54,0),1),0) -> 0
B25: =margins!J16 -> 8.125 | C25: 103.008 | D25: 102.908 | E25: 102.908 | G25: Margin | H25: 4.5 | K25: 4. Only declining prepayment penalty structures allowed in MS | P25: Other Allowable PPP | Q25: Choose a Selection | R25: =IFERROR(INDEX($F$72:$K$77,MATCH(Q25,$C$72:$C$77,0),MATCH($Q$16,$F$54:$K$54,0),1),0) -> 0
B26: =margins!J17 -> 8.25 | C26: 103.602 | D26: 103.502 | E26: 103.502 | G26: Index | H26: 30 Day Average SOFR | P26: Escrow Waiver | Q26: Choose a Selection | R26: =IFERROR(INDEX($F$55:$K$81,MATCH(Q26,$C$55:$C$81,0),MATCH($Q$16,$F$54:$K$54,0),1),0) -> 0
B27: =margins!J18 -> 8.375 | C27: 104.133 | D27: 104.033 | E27: 104.033 | G27: Caps | H27: 2/1/5 | P27: STR | Q27: Choose a Selection | R27: =IFERROR(INDEX($F$55:$K$81,MATCH(Q27,$C$55:$C$81,0),MATCH($Q$16,$F$54:$K$54,0),1),0) -> 0
B28: =margins!J19 -> 8.5 | C28: 104.633 | D28: 104.533 | E28: 104.533 | G28: Adj. Period | H28: 6 Months | P28: < 12 Months Reserves | Q28: Choose a Selection | R28: =IFERROR(INDEX($F$55:$K$81,MATCH(Q28,$C$55:$C$81,0),MATCH($Q$16,$F$54:$K$54,0),1),0) -> 0
B29: =margins!J20 -> 8.625 | C29: 105.071 | D29: 104.971 | E29: 104.971 | P29: State Adj | Q29: Choose a Selection | R29: =IFERROR(INDEX($F$55:$K$81,MATCH(Q29,$C$55:$C$81,0),MATCH($Q$16,$F$54:$K$54,0),1),0) -> 0
B30: =margins!J21 -> 8.75 | C30: 105.508 | D30: 105.408 | E30: 105.408 | P30: Lock Period | Q30: Choose a Selection | R30: =IF(Q30=30,0, IF(Q30=45,M15, 0)) -> 0
B31: =margins!J22 -> 8.875 | C31: 105.946 | D31: 105.846 | E31: 105.846 | P31: Total LLPAs | R31: =SUM(R17:R30) -> 0
B32: =margins!J23 -> 9 | C32: 106.383 | D32: 106.283 | E32: 106.283
B33: =margins!J24 -> 9.125 | C33: 106.758 | D33: 106.658 | E33: 106.658 | P33: Final Price ---> | R33: =IF(ISNUMBER(MATCH("NA",R17:R30,0)),"NA",IF(AND(Q24="Choose a Selection",Q25<>"Choose a Selection"),(MIN(R31+R15,VLOOKUP($Q$25,$G$15:$I$20,3,FALSE))),IF(AND(Q25="Choose a Selection",Q24<>"Choose a Selection"),MIN(R31+R15,VLOOKUP($Q$24,$G$15:$I$20,3,FALSE)),IF(AND(Q24="Choose a Selection",Q25="Choose a Selection"),R15+R31)))) -> 101.626
B34: =margins!J25 -> 9.25 | C34: 107.133 | D34: 107.033 | E34: 107.033
B35: =margins!J26 -> 9.375 | C35: 107.445 | D35: 107.345 | E35: 107.345 | P35: *Foreign National NONI Pricer is a pricing tool only, please refer to the matrix for eligibility
B36: =margins!J27 -> 9.5 | C36: 107.758 | D36: 107.658 | E36: 107.658
B37: =margins!J28 -> 9.625 | C37: 108.071 | D37: 107.971 | E37: 107.971
B38: =margins!J29 -> 9.75 | C38: 108.383 | D38: 108.283 | E38: 108.283
B39: =margins!J30 -> 9.875 | C39: 108.696 | D39: 108.596 | E39: 108.596
B40: =margins!J31 -> 10 | C40: 108.946 | D40: 108.846 | E40: 108.846
B41: =margins!J32 -> 10.125 | C41: 109.196 | D41: 109.096 | E41: 109.096
B42: =margins!J33 -> 10.25 | C42: 109.446 | D42: 109.346 | E42: 109.346
B45: Price Adjustments | F45: CLTV
C46: Choose a Selection | E46: Choose a Selection | F46: <=50.00 | G46: 50.01-55.00 | H46: 55.01-60.00 | I46: 60.01-65.00 | J46: 65.01-70.00 | K46: 70.01-75.00
B47: DSCR | C47: 680+ | F47: 0.5 | G47: 0.125 | H47: -0.125 | I47: -1 | J47: -2.5 | K47: -3.75
C48: No Credit Score | F48: 0.5 | G48: 0.125 | H48: -0.125 | I48: -1 | J48: -2.5 | K48: -3.75
B49: DSCR Additional Adjustments | C49: >=1.25 | F49: 0.5 | G49: 0.5 | H49: 0.5 | I49: 0.625 | J49: 0.625 | K49: 0.625
...

Sheet Cover Noni58
F9: Effective Date: | H9: 46329
B12: theLender Non-QM Business Purpose 5- 8 Unit Rate Sheet
B14: LOCK DESK | I14: APPRAISAL ORDER PROCEDURES
J16: AMC selection can be made at: https://www.thelender.com/appraisals/
C18: CONTACT:
C19: E-mail: | D19: pricingdesk@thelender.com
C20: Direct: | D20: 833-381-8733
C21: Lock cut off at 3:00 PM PST
B25: TABLE OF CONTENTS | I25: NON QM Fees
C28: Noni58 Products | I28: Underwriting Fee: $2,095
C29: NONI58 | G29: Page 2 | I29: Doc Prep Fee: $599 (Business Purpose Only)
C30: NONI58 Matrix | G30: Page 3 | J30: Funding Fee: $575
E38: *EXTENSION FEES
E40: NON QM
G41: 5 day | J41: -0.125
G42: 7 day | J42: -0.175
G43: 10 day | J43: -0.25
G44: 15 day | J44: -0.375
E46: *3 total lock extensions allowed, up to 30 days
B48: Eligible States
C50: AK*, AL, AR, AZ, CA, CO, CT, DC, DE, FL, GA, HI, IA, ID, IL, IN, KS*, KY, LA, MA, MD, ME, MI*, MN*, MO, MS, MT,
C51: NC, ND, NE, NH, NJ, NM*, NV, NY*, OH*, OK, OR, PA, RI*, SC, SD, TN, TX, UT, VA, VT, WA, WI, WV, WY
C53: *See Matrix for restrictions and additional details regarding Prepayment Penalty
B72: LOSS PAYEE
B74: Hometown Equity Mortgage, LLC dba theLender its successors and/or assigns
B75: 25531 Commercentre Dr #250, Lake Forest, CA 92630
B76: For use by mortgage professionals only. Mortgage Financing Provided by Hometown Equity Mortgage, LLC dba theLender NMLS #133519 . Rates, terms and programs subject to change without notice.

Sheet NONI58
C2: NONI 58
A7: DSCR Multi Property (5-8 Residential Units) | G7: MAX PRICE AND LOCK TERM | L7: *NONI58 Pricer | N7: 46329.345
G8: 15 Lock Period | H8: 0
A9: Note Rate | B9: 7/6 ARM | C9: 10/6 ARM | D9: 30 Yr Fx | G9: 30 Lock Period | H9: -0.375 | L9: Category | M9: Inputs | N9: Price
A10: =margins!Y5 -> 8 | B10: 94.108 | C10: 93.558 | D10: 93.058
A11: =margins!Y6 -> 8.125 | B11: 94.77 | C11: 94.22 | D11: 93.72 | G11: Prepay Term | H11: Max Price | L11: Product | M11: 30 Yr Fx
A12: =margins!Y7 -> 8.25 | B12: 95.432 | C12: 94.882 | D12: 94.382 | G12: 60 Months | H12: 101 | L12: Interest Rate ---> | M12: 9 | N12: =IF(M11="7/6 Arm",VLOOKUP(M12,$A$10:$D$38,2,FALSE),IF(M11="10/6 Arm",VLOOKUP(M12,$A$10:$D$38,3,FALSE),VLOOKUP(M12,$A$10:$D$38,4,FALSE))) -> 98.354
A13: =margins!Y8 -> 8.375 | B13: 96.094 | C13: 95.544 | D13: 95.044 | G13: 48 Months | H13: 101 | L13: CLTV Range | M13: 65.01-70.00
A14: =margins!Y9 -> 8.5 | B14: 96.756 | C14: 96.206 | D14: 95.706 | G14: 36 Months | H14: 101 | L14: FICO Range | M14: 700-719 | N14: =IFERROR(INDEX($C$42:$H$47,MATCH(M14,B42:B47,0),MATCH(M13,C41:H41,0),1),0) -> -1
A15: =margins!Y10 -> 8.625 | B15: 97.418 | C15: 96.868 | D15: 96.368 | G15: 24 Months | H15: 101 | L15: Housing History | M15: Choose a Selection | N15: =IFERROR(INDEX($C$51:$H$70,MATCH(M15,$B$51:$B$70,0),MATCH($M$13,$C$41:$H$41,0),1),0) -> 0
A16: =margins!Y11 -> 8.75 | B16: 98.08 | C16: 97.53 | D16: 97.03 | G16: 12 Months | H16: 99.275 | L16: Housing Events | M16: Choose a Selection | N16: =IFERROR(INDEX($C$51:$H$70,MATCH(M16,$B$51:$B$70,0),MATCH($M$13,$C$41:$H$41,0),1),0) -> 0
A17: =margins!Y12 -> 8.875 | B17: 98.742 | C17: 98.192 | D17: 97.692 | G17: No Penalty | H17: 98.275 | L17: Loan Balance | M17: Choose a Selection | N17: =IFERROR(INDEX($C$51:$H$70,MATCH(M17,$B$51:$B$70,0),MATCH($M$13,$C$41:$H$41,0),1),0) -> 0
A18: =margins!Y13 -> 9 | B18: 99.404 | C18: 98.854 | D18: 98.354 | L18: Purpose | M18: Choose a Selection | N18: =IFERROR(INDEX($C$51:$H$70,MATCH(M18,$B$51:$B$70,0),MATCH($M$13,$C$41:$H$41,0),1),0) -> 0
A19: =margins!Y14 -> 9.125 | B19: 100.066 | C19: 99.516 | D19: 99.016 | G19: 1) Prepayment penalties not allowed in AK, KS, MI, MN, MS, NM, OH, and RI | L19: Property Type | M19: Choose a Selection | N19: =IFERROR(INDEX($C$51:$H$70,MATCH(M19,$B$51:$B$70,0),MATCH($M$13,$C$41:$H$41,0),1),0) -> 0
A20: =margins!Y15 -> 9.25 | B20: 100.653 | C20: 100.103 | D20: 99.603 | G20: 2) Prepayment penalties not allowed on loans vested to individuals | L20: Interest Only | M20: Choose a Selection | N20: =IFERROR(INDEX($C$51:$H$70,MATCH(M20,$B$51:$B$70,0),MATCH($M$13,$C$41:$H$41,0),1),0) -> 0
A21: =margins!Y16 -> 9.375 | B21: 101.24 | C21: 100.69 | D21: 100.19 | G21: in NJ | L21: 5% PPP | M21: 60 Months | N21: =IFERROR(INDEX($C$51:$H$70,MATCH(M21,$B$51:$B$70,0),MATCH($M$13,$C$41:$H$41,0),1),0) -> 1
A22: =margins!Y17 -> 9.5 | B22: 101.827 | C22: 101.277 | D22: 100.777 | G22: 3) Prepayment penalties not allowed on loan amounts less | L22: Escrow Waiver | M22: Choose a Selection | N22: =IFERROR(INDEX($C$51:$H$70,MATCH(M22,$B$51:$B$70,0),MATCH($M$13,$C$41:$H$41,0),1),0) -> 0
A23: =margins!Y18 -> 9.625 | B23: 102.414 | C23: 101.864 | D23: 101.364 | G23: than $329,411 in PA | L23: ACH Waiver | M23: Choose a Selection | N23: =IFERROR(INDEX($C$51:$H$70,MATCH(M23,$B$51:$B$70,0),MATCH($M$13,$C$41:$H$41,0),1),0) -> 0
A24: =margins!Y19 -> 9.75 | B24: 102.939 | C24: 102.389 | D24: 101.889 | G24: 4) Only declining prepayment penalty structures allowed in MS | L24: Lock Period | M24: 15 | N24: =IF(M24=15,0,H9) -> 0
A25: =margins!Y20 -> 9.875 | B25: 103.464 | C25: 102.914 | D25: 102.414 | L25: Total LLPAs | N25: =SUM(N14:N24) -> 0
A26: =margins!Y21 -> 10 | B26: 103.989 | C26: 103.439 | D26: 102.939
A27: =margins!Y22 -> 10.125 | B27: 104.514 | C27: 103.964 | D27: 103.464 | L27: Final Price ---> | N27: =IF(ISNUMBER(MATCH("NA", N14:N24, 0)), "NA", MIN(N25+N12,VLOOKUP($M$21,$G$12:$H$17,2,FALSE))) -> 98.354
A28: =margins!Y23 -> 10.25 | B28: 105.039 | C28: 104.489 | D28: 103.989
A29: =margins!Y24 -> 10.375 | B29: 105.564 | C29: 105.014 | D29: 104.514 | L29: *NONI58 Pricer is a pricing tool only, please refer to the matrix for eligibility
A30: =margins!Y25 -> 10.5 | B30: 106.089 | C30: 105.539 | D30: 105.039
A31: =margins!Y26 -> 10.625 | B31: 106.614 | C31: 106.064 | D31: 105.564 | L31: Program Codes
A32: =margins!Y27 -> 10.75 | B32: 107.139 | C32: 106.589 | D32: 106.089 | L32: TBD58-FX30 | M32: Beacon DSCR 30 Yr Fixed
A33: =margins!Y28 -> 10.875 | B33: 107.664 | C33: 107.114 | D33: 106.614 | L33: TBD58-FX30IO | M33: DSCR 30 Yr Fixed IO
A34: =margins!Y29 -> 11 | B34: 108.189 | C34: 107.639 | D34: 107.139 | G34: ARM Requirements | L34: TBD58-30AL07 | M34: Beacon DSCR 7/6 ARM
A35: =margins!Y30 -> 11.125 | B35: 108.651 | C35: 108.101 | D35: 107.601 | G35: ARM Index | H35: SOFR 30AVG | L35: TBD58-30AL07IO | M35: Beacon DSCR 7/6 ARM IO
A36: =margins!Y31 -> 11.25 | B36: 109.051 | C36: 108.501 | D36: 108.001 | G36: ARM Margin | H36: 0.065 | L36: TBD58-30AL010 | M36: Beacon DSCR 10/6 ARM
A37: =margins!Y32 -> 11.375 | B37: 109.451 | C37: 108.901 | D37: 108.401 | G37: 7yr & 10yr ARM Caps | H37: 5/1/5 | L37: TBD58-30AL010IO | M37: Beacon DSCR 10/6 ARM IO
A38: =margins!Y33 -> 11.5 | B38: 109.851 | C38: 109.301 | D38: 108.801 | G38: Reset Frequency | H38: 6 mo
A40: FICO/CLTV LLPAs (Price Adjustments)
A41: DSCR >= 1.00 | C41: <=50.00 | D41: 50.01-55.00 | E41: 55.01-60.00 | F41: 60.01-65.00 | G41: 65.01-70.00 | H41: 70.01-75.00
B42: 760+ | C42: 1.25 | D42: 1 | E42: 0.75 | F42: 0.375 | G42: 0.125 | H42: -0.25
B43: 740-759 | C43: 1.125 | D43: 0.875 | E43: 0.5 | F43: 0.25 | G43: -0.125 | H43: -0.625
B44: 720-739 | C44: 0.625 | D44: 0.375 | E44: 0.25 | F44: 0 | G44: -0.375 | H44: -1
B45: 700-719 | C45: 0 | D45: -0.25 | E45: -0.375 | F45: -0.625 | G45: -1 | H45: -1.625
B46: 680-699 | C46: NA | D46: NA | E46: NA | F46: NA | G46: NA | H46: NA
...

Sheet theNONI58Test
J2: Effective Date: | K2: =NOW() -> 46329.345
K3: Wholesale Rate Sheet
L5: Page 2
A10: theNONI58 DSCR Multi Property (5-8 Residential Units) | O10: *NONI58 Pricer
C12: 15 Day Price | O12: Category | P12: Inputs | Q12: Price
B13: Rate | C13: 7/6 ARM | D13: 10/6 ARM | E13: 30YR FIXED | G13: MAX PRICE | J13: LOCK TERMS
B14: =margins!Y5 -> 8 | C14: 94.108 | D14: 93.558 | E14: 93.058 | G14: Prepay Term | H14: Max Price | J14: 15 Day Lock | K14: 0 | O14: Product | P14: 30 Yr Fx
B15: =margins!Y6 -> 8.125 | C15: 94.77 | D15: 94.22 | E15: 93.72 | G15: 60 Months | H15: 101 | J15: 30 Day Lock | K15: -0.375 | O15: Interest Rate ---> | P15: 9 | Q15: =IF(P14="7/6 Arm",VLOOKUP(P15,$B$14:$E$42,2,FALSE),IF(P14="10/6 Arm",VLOOKUP(P15,$B$14:$E$42,3,FALSE),VLOOKUP(P15,$B$14:$E$42,4,FALSE))) -> 98.354
B16: =margins!Y7 -> 8.25 | C16: 95.432 | D16: 94.882 | E16: 94.382 | G16: 48 Months | H16: 101 | O16: CLTV Range | P16: 65.01-70.00
B17: =margins!Y8 -> 8.375 | C17: 96.094 | D17: 95.544 | E17: 95.044 | G17: 36 Months | H17: 101 | J17: PREPAY PENALTY NOTES | O17: FICO Range | P17: 700-719 | Q17: =IFERROR(INDEX($C$42:$H$47,MATCH(P17,E45:E50,0),MATCH(P16,F44:K44,0),1),0) -> 0
B18: =margins!Y9 -> 8.5 | C18: 96.756 | D18: 96.206 | E18: 95.706 | G18: 24 Months | H18: 101 | J18: 1) Prepayment penalties not allowed in AK, KS, MI, MN, MS, NM, OH, and RI | O18: Housing History | P18: Choose a Selection | Q18: =IFERROR(INDEX($C$51:$H$70,MATCH(P18,$B$51:$B$70,0),MATCH($M$13,$C$41:$H$41,0),1),0) -> 0
B19: =margins!Y10 -> 8.625 | C19: 97.418 | D19: 96.868 | E19: 96.368 | G19: 12 Months | H19: 99.275 | O19: Housing Events | P19: Choose a Selection | Q19: =IFERROR(INDEX($C$51:$H$70,MATCH(P19,$B$51:$B$70,0),MATCH($M$13,$C$41:$H$41,0),1),0) -> 0
B20: =margins!Y11 -> 8.75 | C20: 98.08 | D20: 97.53 | E20: 97.03 | G20: No Penalty | H20: 98.275 | J20: 2) Prepayment penalties not allowed on loans vested to individuals in NJ | O20: Loan Balance | P20: Choose a Selection | Q20: =IFERROR(INDEX($C$51:$H$70,MATCH(P20,$B$51:$B$70,0),MATCH($M$13,$C$41:$H$41,0),1),0) -> 0
B21: =margins!Y12 -> 8.875 | C21: 98.742 | D21: 98.192 | E21: 97.692 | O21: Purpose | P21: Choose a Selection | Q21: =IFERROR(INDEX($C$51:$H$70,MATCH(P21,$B$51:$B$70,0),MATCH($M$13,$C$41:$H$41,0),1),0) -> 0
B22: =margins!Y13 -> 9 | C22: 99.404 | D22: 98.854 | E22: 98.354 | J22: 3) Prepayment penalties not allowed on loan amounts less than $312,159 in PA | O22: Property Type | P22: Choose a Selection | Q22: =IFERROR(INDEX($C$51:$H$70,MATCH(P22,$B$51:$B$70,0),MATCH($M$13,$C$41:$H$41,0),1),0) -> 0
B23: =margins!Y14 -> 9.125 | C23: 100.066 | D23: 99.516 | E23: 99.016 | G23: ARM TERMS | O23: Interest Only | P23: Choose a Selection | Q23: =IFERROR(INDEX($C$51:$H$70,MATCH(P23,$B$51:$B$70,0),MATCH($M$13,$C$41:$H$41,0),1),0) -> 0
B24: =margins!Y15 -> 9.25 | C24: 100.653 | D24: 100.103 | E24: 99.603 | G24: Term | H24: 7/6 & 10/6 ARM | J24: 4) Only declining prepayment penalty structures allowed in MS | O24: 5% PPP | P24: 60 Months | Q24: =IFERROR(INDEX($C$51:$H$70,MATCH(P24,$B$51:$B$70,0),MATCH($M$13,$C$41:$H$41,0),1),0) -> 0
B25: =margins!Y16 -> 9.375 | C25: 101.24 | D25: 100.69 | E25: 100.19 | G25: Margin | H25: 6.5 | O25: Escrow Waiver | P25: Choose a Selection | Q25: =IFERROR(INDEX($C$51:$H$70,MATCH(P25,$B$51:$B$70,0),MATCH($M$13,$C$41:$H$41,0),1),0) -> 0
B26: =margins!Y17 -> 9.5 | C26: 101.827 | D26: 101.277 | E26: 100.777 | G26: Index | H26: 30 Day Average SOFR | O26: ACH Waiver | P26: Choose a Selection | Q26: =IFERROR(INDEX($C$51:$H$70,MATCH(P26,$B$51:$B$70,0),MATCH($M$13,$C$41:$H$41,0),1),0) -> 0
B27: =margins!Y18 -> 9.625 | C27: 102.414 | D27: 101.864 | E27: 101.364 | G27: Caps | H27: 5/1/5 | O27: Lock Period | P27: Choose a Selection | Q27: =IF(P27=30,0,IF(P27=45, K15, 0)) -> 0
B28: =margins!Y19 -> 9.75 | C28: 102.939 | D28: 102.389 | E28: 101.889 | G28: Adj. Period | H28: 6 Months | J28: Program Codes | O28: Total LLPAs | Q28: =Q17+Q19+Q20+Q21+Q22+Q23+Q24+Q25+Q26+Q27 -> 0
B29: =margins!Y20 -> 9.875 | C29: 103.464 | D29: 102.914 | E29: 102.414 | J29: TBD58-FX30 | K29: Beacon DSCR 30 Yr Fixed
B30: =margins!Y21 -> 10 | C30: 103.989 | D30: 103.439 | E30: 102.939 | J30: TBD58-FX30IO | K30: DSCR 30 Yr Fixed IO | O30: Final Price ---> | Q30: =IF(ISNUMBER(MATCH("NA", Q17:Q27, 0)), "NA", MIN(Q28+Q15,VLOOKUP($P$24,$G$15:$H$20,2,FALSE))) -> 98.354
B31: =margins!Y22 -> 10.125 | C31: 104.514 | D31: 103.964 | E31: 103.464 | J31: TBD58-30AL07 | K31: Beacon DSCR 7/6 ARM
B32: =margins!Y23 -> 10.25 | C32: 105.039 | D32: 104.489 | E32: 103.989 | J32: TBD58-30AL07IO | K32: Beacon DSCR 7/6 ARM IO | O32: *NONI58 Pricer is a pricing tool only, please refer to the matrix for eligibility
B33: =margins!Y24 -> 10.375 | C33: 105.564 | D33: 105.014 | E33: 104.514 | J33: TBD58-30AL010 | K33: Beacon DSCR 10/6 ARM
B34: =margins!Y25 -> 10.5 | C34: 106.089 | D34: 105.539 | E34: 105.039 | J34: TBD58-30AL010IO | K34: Beacon DSCR 10/6 ARM IO
B35: =margins!Y26 -> 10.625 | C35: 106.614 | D35: 106.064 | E35: 105.564
B36: =margins!Y27 -> 10.75 | C36: 107.139 | D36: 106.589 | E36: 106.089
B37: =margins!Y28 -> 10.875 | C37: 107.664 | D37: 107.114 | E37: 106.614
B38: =margins!Y29 -> 11 | C38: 108.189 | D38: 107.639 | E38: 107.139
B39: =margins!Y30 -> 11.125 | C39: 108.651 | D39: 108.101 | E39: 107.601
B40: =margins!Y31 -> 11.25 | C40: 109.051 | D40: 108.501 | E40: 108.001
B41: =margins!Y32 -> 11.375 | C41: 109.451 | D41: 108.901 | E41: 108.401
B42: =margins!Y33 -> 11.5 | C42: 109.851 | D42: 109.301 | E42: 108.801
B45: Price Adjustments | E45: CLTV
D46: Choose a Selection | E46: <=50.00 | F46: 50.01-55.00 | G46: 55.01-60.00 | H46: 60.01-65.00 | I46: 65.01-70.00 | J46: 70.01-75.00
B47: DSCR >= 1.00 | C47: 760+ | E47: 1.25 | F47: 1 | G47: 0.75 | H47: 0.375 | I47: 0.125 | J47: -0.25
C48: 740-759 | E48: 1.125 | F48: 0.875 | G48: 0.5 | H48: 0.25 | I48: -0.125 | J48: -0.625
C49: 720-739 | E49: 0.625 | F49: 0.375 | G49: 0.25 | H49: 0 | I49: -0.375 | J49: -1
...

Sheet Cover NONQM
F9: Effective Date: | H9: 46329
B12: theLender NQHEM Rate Sheet
B14: LOCK DESK | I14: APPRAISAL ORDER PROCEDURES
J16: AMC selection can be made at: https://www.thelender.com/appraisals/
C18: CONTACT:
C19: E-mail: | D19: pricingdesk@thelender.com
C20: Direct: | D20: 833-381-8733
C21: Lock Desk Closes at 5:00 PM PST
B25: TABLE OF CONTENTS | I25: NON QM Fees
C28: NQHEM Products | I28: Underwriting Fee: $2,095
C29: NQHEM | G29: Page 2
C30: NQHEM Matrix | G30: Page 3
E38: *EXTENSION FEES
E40: NON QM
G41: 5 day | J41: -0.125
G42: 7 day | J42: -0.175
G43: 10 day | J43: -0.25
G44: 15 day | J44: -0.375
E46: *3 total lock extensions allowed, up to 30 days
B48: Eligible States
C50: AK*, AL, AR, AZ, CA, CO, CT, DC, DE, FL, GA, IA, ID, IL, IN, KS*, KY, LA, MA, MD, ME, MI*, MN*, MO, MS, MT,
C51: NC, ND, NE, NH, NJ, NM*, NV, OH*, OK, OR, PA, RI*, SC, SD, TN, TX, UT, VA, VT, WA, WI, WV, WY
C53: *See Matrix for restrictions and additional details regarding Prepayment Penalty
B72: LOSS PAYEE
B74: Hometown Equity Mortgage, LLC dba theLender its successors and/or assigns
B75: 25531 Commercentre Dr #250, Lake Forest, CA 92630
B76: For use by mortgage professionals only. Mortgage Financing Provided by Hometown Equity Mortgage, LLC dba theLender NMLS #133519 . Rates, terms and programs subject to change without notice.

Sheet NQHEM
K2: Effective Date: | M2: =NOW() -> 46329.345
M3: Wholesale Rate Sheet
N5: Page 2
A10: NQHEM | FULL-DOC & ALT-DOC | Q10: *NQHEM Pricer | S10: 46329.345
Q12: Category | R12: Inputs | S12: Price
B13: Rate | C13: FULL DOC | G13: Rate | H13: ALT DOC | L13: MAX PRICE & LOCK TERMS
C14: 7/6 ARM | D14: 10/6 ARM | E14: 30YR FIX | H14: 7/6 ARM | I14: 10/6 ARM | J14: 30YR FIX | L14: Max Price | N14: 102 | Q14: Product | R14: 30YR FIX
B15: =margins!S5 -> 6.75 | C15: 95.558 | D15: 95.708 | E15: 95.708 | G15: =B15 -> 6.75 | H15: 95.558 | I15: 95.708 | J15: 95.708 | L15: Max Price (>2.5mm) | N15: 100.5 | Q15: Alt Doc | R15: Yes
B16: =margins!S6 -> 6.875 | C16: 96.621 | D16: 96.771 | E16: 96.771 | G16: =B16 -> 6.875 | H16: 96.621 | I16: 96.771 | J16: 96.771 | L16: 15 Day Lock | N16: 0 | Q16: Interest Rate ---> | R16: 7 | S16: =IF(R15="No",IF(R14="7/6 Arm",VLOOKUP(R16,$B$15:$E$39,2,FALSE),IF(R14="10/6 Arm",VLOOKUP(R16,$B$15:$E$39,3,FALSE),VLOOKUP(R16,$B$15:$E$39,4,FALSE))),IF(R15="Yes",IF(R14="7/6 Arm",VLOOKUP(R16,$G$15:$J$39,2,FALSE),IF(R14="10/6 Arm",VLOOKUP(R16,$G$15:$J$39,3,FALSE),VLOOKUP(R16,$G$15:$J$39,4,FALSE))),"NA")) -> 97.833
B17: =margins!S7 -> 7 | C17: 97.683 | D17: 97.833 | E17: 97.833 | G17: =B17 -> 7 | H17: 97.683 | I17: 97.833 | J17: 97.833 | L17: 30 Day Lock | N17: -0.375 | Q17: CLTV Range | R17: Choose a Selection
B18: =margins!S8 -> 7.125 | C18: 98.558 | D18: 98.708 | E18: 98.708 | G18: =B18 -> 7.125 | H18: 98.558 | I18: 98.708 | J18: 98.708 | Q18: FICO Range | R18: Choose a Selection
B19: =margins!S9 -> 7.25 | C19: 99.433 | D19: 99.583 | E19: 99.583 | G19: =B19 -> 7.25 | H19: 99.433 | I19: 99.583 | J19: 99.583 | L19: ARM TERMS | Q19: Full Doc 2 | R19: Choose a Selection | S19: =IF(R19="Full Doc - 2 Years",INDEX($E$55:$M$63,MATCH(R18,C55:C63,0),MATCH(R17,$E$54:$M$54,0),1),0) -> 0
B20: =margins!S10 -> 7.375 | C20: 100.121 | D20: 100.271 | E20: 100.271 | G20: =B20 -> 7.375 | H20: 100.121 | I20: 100.271 | J20: 100.271 | L20: Term | M20: 7/6 & 10/6 ARM | Q20: Full Doc 1 | R20: Choose a Selection | S20: =IF(R20="Full Doc - 1 Year",INDEX($E$64:$M$64,1,MATCH(R17,$E$54:$M$54,0),1),0) -> 0
B21: =margins!S11 -> 7.5 | C21: 100.808 | D21: 100.958 | E21: 100.958 | G21: =B21 -> 7.5 | H21: 100.808 | I21: 100.958 | J21: 100.958 | L21: Margin | M21: 5 | Q21: Alt Doc | R21: Choose a Selection | S21: =IF(R21="Choose a Selection",0,(INDEX($E$68:$M$76,MATCH($R$18,C68:C76,0),MATCH($R$17,$E$67:$M$67,0),1))) -> 0
B22: =margins!S12 -> 7.625 | C22: 101.402 | D22: 101.552 | E22: 101.552 | G22: =B22 -> 7.625 | H22: 101.402 | I22: 101.552 | J22: 101.552 | L22: Index | M22: 30 Day Average SOFR | Q22: Alt Doc add | R22: Choose a Selection | S22: =IF(R22="Choose a Selection",0,(INDEX($E$68:$M$81,MATCH(R22,C68:C81,0),MATCH($R$17,$E$67:$M$67,0),1))) -> 0
B23: =margins!S13 -> 7.75 | C23: 101.902 | D23: 102.052 | E23: 102.052 | G23: =B23 -> 7.75 | H23: 101.902 | I23: 102.052 | J23: 102.052 | L23: Caps | M23: 5/1/5 | Q23: Housing History | R23: Choose a Selection | S23: =IF(R23="Choose a Selection",0,(INDEX($E$85:$M$116,MATCH(R23,$C$85:$C$116,0),MATCH($R$17,$E$84:$M$84,0),1))) -> 0
B24: =margins!S14 -> 7.875 | C24: 102.37 | D24: 102.52 | E24: 102.52 | G24: =B24 -> 7.875 | H24: 102.37 | I24: 102.52 | J24: 102.52 | Q24: Housing Seasoning | R24: Choose a Selection | S24: =IF(R24="Choose a Selection",0,(INDEX($E$85:$M$116,MATCH(R24,$C$85:$C$116,0),MATCH($R$17,$E$84:$M$84,0),1))) -> 0
B25: =margins!S15 -> 8 | C25: 102.839 | D25: 102.989 | E25: 102.989 | G25: =B25 -> 8 | H25: 102.839 | I25: 102.989 | J25: 102.989 | L25: PREPAY PENALTY | Q25: DTI | R25: Choose a Selection | S25: =IF(R25="Choose a Selection",0,(INDEX($E$85:$M$116,MATCH(R25,$C$85:$C$116,0),MATCH($R$17,$E$84:$M$84,0),1))) -> 0
B26: =margins!S16 -> 8.125 | C26: 103.277 | D26: 103.427 | E26: 103.427 | G26: =B26 -> 8.125 | H26: 103.277 | I26: 103.427 | J26: 103.427 | L26: Prepay Term | M26: LLPA's | N26: Max Price | Q26: Loan Balance | R26: Choose a Selection | S26: =IF(R26="Choose a Selection",0,(INDEX($E$85:$M$116,MATCH(R26,$C$85:$C$116,0),MATCH($R$17,$E$84:$M$84,0),1))) -> 0
B27: =margins!S17 -> 8.25 | C27: 103.683 | D27: 103.833 | E27: 103.833 | G27: =B27 -> 8.25 | H27: 103.714 | I27: 103.864 | J27: 103.864 | L27: 60 Months | M27: 0.5 | N27: 102 | Q27: Purpose | R27: Choose a Selection | S27: =IF(R27="Choose a Selection",0,(INDEX($E$85:$M$116,MATCH(R27,$C$85:$C$116,0),MATCH($R$17,$E$84:$M$84,0),1))) -> 0
B28: =margins!S18 -> 8.375 | C28: 104.027 | D28: 104.177 | E28: 104.177 | G28: =B28 -> 8.375 | H28: 104.089 | I28: 104.239 | J28: 104.239 | L28: 48 Months | M28: 0.25 | N28: 102 | Q28: Occupancy | R28: Choose a Selection | S28: =IF(R28="Choose a Selection",0,(INDEX($E$85:$M$116,MATCH(R28,$C$85:$C$116,0),MATCH($R$17,$E$84:$M$84,0),1))) -> 0
B29: =margins!S19 -> 8.5 | C29: 104.34 | D29: 104.49 | E29: 104.49 | G29: =B29 -> 8.5 | H29: 104.464 | I29: 104.614 | J29: 104.614 | L29: 36 Months | M29: 0 | N29: 102 | Q29: Property Type | R29: Choose a Selection | S29: =IF(R29="Choose a Selection",0,(INDEX($E$85:$M$116,MATCH(R29,$C$85:$C$116,0),MATCH($R$17,$E$84:$M$84,0),1))) -> 0
B30: =margins!S20 -> 8.625 | C30: 104.621 | D30: 104.771 | E30: 104.771 | G30: =B30 -> 8.625 | H30: 104.808 | I30: 104.958 | J30: 104.958 | L30: 24 Months | M30: -0.375 | N30: 101 | Q30: Amortization | R30: Choose a Selection | S30: =IF(R30="Choose a Selection",0,(INDEX($E$85:$M$116,MATCH(R30,$C$85:$C$116,0),MATCH($R$17,$E$84:$M$84,0),1))) -> 0
B31: =margins!S21 -> 8.75 | C31: 104.903 | D31: 105.053 | E31: 105.053 | G31: =B31 -> 8.75 | H31: 105.121 | I31: 105.271 | J31: 105.271 | L31: 12 Months | M31: -0.75 | N31: 100.5 | Q31: Interest Only | R31: Choose a Selection | S31: =IF(R31="Choose a Selection",0,(INDEX($E$85:$M$116,MATCH(R31,$C$85:$C$116,0),MATCH($R$17,$E$84:$M$84,0),1))) -> 0
B32: =margins!S22 -> 8.875 | C32: 105.153 | D32: 105.303 | E32: 105.303 | G32: =B32 -> 8.875 | H32: 105.371 | I32: 105.521 | J32: 105.521 | L32: No PPP | M32: -1 | N32: 100 | Q32: Prepay Penalty | R32: Choose a Selection | S32: =IF(R32="Choose a Selection",0,VLOOKUP(R32,$L$27:$M$32,2,FALSE)) -> 0
B33: =margins!S23 -> 9 | C33: 105.403 | D33: 105.553 | E33: 105.553 | G33: =B33 -> 9 | H33: 105.621 | I33: 105.771 | J33: 105.771 | L33: 1) Prepayment penalties for Investment property and are 6 months of interest option only. | Q33: Escrow Waiver | R33: Choose a Selection | S33: =IF(R33="Choose a Selection",0,(INDEX($E$85:$M$116,MATCH(R33,$C$85:$C$116,0),MATCH($R$17,$E$84:$M$84,0),1))) -> 0
B34: =margins!S24 -> 9.125 | C34: 105.653 | D34: 105.803 | E34: 105.803 | G34: =B34 -> 9.125 | H34: 105.871 | I34: 106.021 | J34: 106.021 | Q34: First Time Investor (FTI) | R34: Choose a Selection | S34: =IF(R34="Choose a Selection",0,INDEX($E$85:$M$116,MATCH(R34,$C$85:$C$116,0),MATCH($R$17,$E$84:$M$84,0),1)) -> 0
B35: =margins!S25 -> 9.25 | C35: 105.903 | D35: 106.053 | E35: 106.053 | G35: =B35 -> 9.25 | H35: 106.121 | I35: 106.271 | J35: 106.271 | L35: 2) Prepayment penalties not allowed in AK, KS, MI, MN, NM, OH, and RI | Q35: State Adj 1 | R35: Choose a Selection | S35: =IF(R35="Choose a Selection",0,(INDEX($E$85:$M$116,MATCH(R35,$C$85:$C$116,0),MATCH($R$17,$E$84:$M$84,0),1))) -> 0
B36: =margins!S26 -> 9.375 | C36: 106.153 | D36: 106.303 | E36: 106.303 | G36: =B36 -> 9.375 | H36: 106.371 | I36: 106.521 | J36: 106.521 | Q36: Lock Period | R36: Choose a Selection | S36: =IF(R36=15,0, IF(R36=30, N17, 0)) -> 0
B37: =margins!S27 -> 9.5 | C37: 106.372 | D37: 106.522 | E37: 106.522 | G37: =B37 -> 9.5 | H37: 106.621 | I37: 106.771 | J37: 106.771 | L37: 3) Prepayment penalties not allowed on loans vested to individuals in IL & NJ | Q37: Pricing Special | R37: Choose a Selection | S37: =IF(R37="All NQHEM Products",0.25,IF(OR(R37="*Bank Statement w/ CLTV ≤ 80 & Loan Amt ≤ 1.25MM", R37="*Full Doc w/ CLTV ≤ 80 & Loan Amt ≤ 1.25MM"),0.5,0)) -> 0
B38: =margins!S28 -> 9.625 | C38: 106.591 | D38: 106.741 | E38: 106.741 | G38: =B38 -> 9.625 | H38: 106.84 | I38: 106.99 | J38: 106.99 | Q38: Total LLPAs | S38: =SUM(S19:S37) -> 0
B39: =margins!S29 -> 9.75 | C39: 106.81 | D39: 106.96 | E39: 106.96 | G39: =B39 -> 9.75 | H39: 107.059 | I39: 107.209 | J39: 107.209 | L39: 4) Prepayment penalties not allowed on loan amounts less than $329,411 in PA
Q40: Final Price ---> | S40: =IF(ISNUMBER(MATCH("NA", S19:S37, 0)), "NA", IF(R28="Investor",MIN(S38+S16,VLOOKUP(R32,$L$27:$N$32,3,FALSE)),MIN(S38+S16,N14))) -> 97.833
B41: =TEXT(TODAY(), "mmmm") & " Special" -> November Special | G41: =TEXT(TODAY(), "mmmm") & " Special" -> November Special
B42: All NQHEM Products | E42: 0.25 | G42: All NQHEM Products | J42: 0.25 | Q42: *NQHEM Pricer is a pricing tool only, please refer to the matrix for eligibility
B43: *Full Doc w/ CLTV ≤ 80 & Loan Amt ≤ 1.25MM | E43: 0.25 | G43: *Bank Statement w/ CLTV ≤ 80 & Loan Amt ≤ 1.25MM | J43: 0.25
B44: *Specials can be combined up to 50 bps | G44: *Specials can be combined up to 50 bps
B45: *Primary and 2nd Homes only | G45: *Primary and 2nd Homes only
B53: Full Doc LLPAs | E53: CLTV
D54: Choose a Selection | E54: <=50.00 | F54: 50.01-55.00 | G54: 55.01-60.00 | H54: 60.01-65.00 | I54: 65.01-70.00 | J54: 70.01-75.00 | K54: 75.01-80.00 | L54: 80.01-85.00 | M54: 85.01-90.00
...

Sheet Cover the2nd
F9: Effective Date: | H9: 46329
B12: theLender 2nds Rate Sheet
B14: LOCK DESK | I14: APPRAISAL ORDER PROCEDURES
J16: AMC selection can be made at: https://www.thelender.com/appraisals/
C18: CONTACT:
C19: E-mail: | D19: pricingdesk@thelender.com
C20: Direct: | D20: 833-381-8733
C21: Lock Desk Closes at 5:00 PM PST
B25: TABLE OF CONTENTS | I25: the 2nd Fees
C28: the2nd Products
C29: 2nd+ | G29: Page 2 | I29: 2ndOO and 2ndNOO: $999
C30: 2ndOO | G30: Page 3
C31: 2ndNOO | G31: Page 4
C32: 2nd Mortgage Matrix | G32: Page 5
E38: *EXTENSION FEES
F40: 2nds
G41: 5 day | J41: -0.125
G42: 7 day | J42: -0.175
G43: 10 day | J43: -0.25
G44: 15 day | J44: -0.375
E46: *3 total lock extensions allowed, up to 30 days
B48: Eligible States
B50: *See Matrix for restrictions and additional details.
B72: LOSS PAYEE
B74: Hometown Equity Mortgage, LLC dba theLender its successors and/or assigns
B75: 25531 Commercentre Dr #250, Lake Forest, CA 92630
B76: For use by mortgage professionals only. Mortgage Financing Provided by Hometown Equity Mortgage, LLC dba theLender NMLS #133519 . Rates, terms and programs subject to change without notice.

Sheet 2nd+
L3: Lock Desk Hours: 8am – 3:00pm PST
L4: Email: pricingdesk@thelender.com
L5: NMLS # 133519
C6: the2nd+
C7: Note Rate | D7: Full Doc | E7: Alt Doc | G7: MAX PRICE AND LOCK TERM | J7: Program Notes
C8: =margins!AP3 -> 7.125 | D8: 95.252 | E8: NA | G8: Max Price | H8: 101.25 | J8: 1. UW Fee $999 | S8: *2ndOO+ Pricer | U8: 46329.345
C9: =margins!AP4 -> 7.25 | D9: 96.127 | E9: NA | G9: 15 Lock Period | H9: 0 | J9: 2. Lock cutoff 5:00 PM PST
C10: =margins!AP5 -> 7.375 | D10: 96.939 | E10: NA | G10: 30 Lock Period | H10: -0.375 | J10: 3. Loan must be U/W Approved status to lock | S10: Category | T10: Inputs | U10: Price
C11: =margins!AP6 -> 7.5 | D11: 97.564 | E11: 95.252
C12: =margins!AP7 -> 7.625 | D12: 98.064 | E12: 96.127 | G12: Extension Fees*
C13: =margins!AP8 -> 7.75 | D13: 98.564 | E13: 96.939 | G13: 5 days | H13: -0.25 | J13: *Price Special | M13: 0.5 | S13: Alt Doc | T13: Yes
C14: =margins!AP9 -> 7.875 | D14: 99.064 | E14: 97.564 | G14: 7 days | H14: -0.325 | J14: *Loan Amount >=100,000 | S14: Interest Rate ---> | T14: 8.875 | U14: =IF(T13="No",VLOOKUP(T14,$C$8:$E$54,2,FALSE),VLOOKUP(T14,$C$8:$E$54,3,FALSE)) -> 101.451
C15: =margins!AP10 -> 8 | D15: 99.564 | E15: 98.064 | G15: 10 days | H15: -0.55 | S15: CLTV Range | T15: 65.01-70.00
C16: =margins!AP11 -> 8.125 | D16: 100.045 | E16: 98.564 | G16: 15 days | H16: -0.65 | S16: FICO Range FD | T16: Choose a Selection | U16: =IF(T16="Choose a Selection",0,(INDEX($I$21:$Q$27,MATCH(T16,$H$21:$H$27,0),MATCH($T$15,$I$20:$Q$20,0),1))) -> 0
C17: =margins!AP12 -> 8.25 | D17: 100.514 | E17: 99.064 | G17: *Extension Max: 15 days | S17: FD 1 Year + 2 Year Adj | T17: Choose a Selection | U17: =IF(T17="Choose a Selection",0,(INDEX($I$21:$Q$55,MATCH(T17,$H$21:$H$55,0),MATCH($T$15,$I$20:$Q$20,0),1))) -> 0
C18: =margins!AP13 -> 8.375 | D18: 100.982 | E18: 99.564 | S18: FICO Range AD | T18: Choose a Selection | U18: =IF(T18="Choose a Selection",0,(INDEX($I$29:$Q$35,MATCH(T18,$H$29:$H$35,0),MATCH($T$15,$I$20:$Q$20,0),1))) -> 0
C19: =margins!AP14 -> 8.5 | D19: 101.451 | E19: 100.045 | G19: Price Adjustments | I19: CLTV | S19: Add Alt Doc Adj | T19: Choose a Selection | U19: =IF(T19="Choose a Selection",0,(INDEX($I$21:$Q$55,MATCH(T19,$H$21:$H$55,0),MATCH($T$15,$I$20:$Q$20,0),1))) -> 0
C20: =margins!AP15 -> 8.625 | D20: 101.919 | E20: 100.514 | I20: <=50.00 | J20: 50.01-55.00 | K20: 55.01-60.00 | L20: 60.01-65.00 | M20: 65.01-70.00 | N20: 70.01-75.00 | O20: 75.01-80.00 | P20: 80.01-85.00 | Q20: 85.01-90.00 | S20: Product | T20: Choose a Selection | U20: =IF(T20="Choose a Selection",0,(INDEX($I$21:$Q$55,MATCH(T20,$H$21:$H$55,0),MATCH($T$15,$I$20:$Q$20,0),1))) -> 0
C21: =margins!AP16 -> 8.75 | D21: 102.388 | E21: 100.982 | G21: Full Doc - 2 Years | H21: 800+ | I21: 3 | J21: 2.875 | K21: 2.875 | L21: 2.75 | M21: 2.5 | N21: 2 | O21: 0.875 | P21: -2 | Q21: -3.5 | S21: Loan Amount | T21: Choose a Selection | U21: =IF(T21="Choose a Selection",0,(INDEX($I$21:$Q$55,MATCH(T21,$H$21:$H$55,0),MATCH($T$15,$I$20:$Q$20,0),1))) -> 0
C22: =margins!AP17 -> 8.875 | D22: 102.834 | E22: 101.451 | H22: 780 - 799 | I22: 3 | J22: 2.875 | K22: 2.875 | L22: 2.625 | M22: 2.25 | N22: 1.375 | O22: 0.5 | P22: -2.875 | Q22: -4.5 | S22: Occupancy | T22: Choose a Selection | U22: =IF(T22="Choose a Selection",0,(INDEX($I$21:$Q$55,MATCH(T22,$H$21:$H$55,0),MATCH($T$15,$I$20:$Q$20,0),1))) -> 0
C23: =margins!AP18 -> 9 | D23: 103.28 | E23: 101.919 | H23: 760 - 779 | I23: 2 | J23: 1.875 | K23: 1.875 | L23: 1.375 | M23: 1 | N23: 0.75 | O23: -0.5 | P23: -4 | Q23: -6.5 | S23: DTI | T23: Choose a Selection | U23: =IF(T23="Choose a Selection",0,(INDEX($I$21:$Q$55,MATCH(T23,$H$21:$H$55,0),MATCH($T$15,$I$20:$Q$20,0),1))) -> 0
C24: =margins!AP19 -> 9.125 | D24: 103.726 | E24: 102.388 | H24: 740 - 759 | I24: 1.25 | J24: 1.25 | K24: 1.25 | L24: 1 | M24: 0.625 | N24: 0.25 | O24: -1.75 | P24: -5.5 | Q24: -8.5 | S24: State 1 | T24: Choose a Selection | U24: =IF(T24="Choose a Selection",0,(INDEX($I$21:$Q$55,MATCH(T24,$H$21:$H$55,0),MATCH($T$15,$I$20:$Q$20,0),1))) -> 0
C25: =margins!AP20 -> 9.25 | D25: 104.171 | E25: 102.834 | H25: 720 - 739 | I25: 0.875 | J25: 0.875 | K25: 0.875 | L25: 0.5 | M25: 0.125 | N25: -0.5 | O25: -2.75 | P25: -7 | Q25: NA | S25: Property Type | T25: Choose a Selection | U25: =IF(T25="Choose a Selection",0,(INDEX($I$21:$Q$56,MATCH(T25,$H$21:$H$56,0),MATCH($T$15,$I$20:$Q$20,0),1))) -> 0
C26: =margins!AP21 -> 9.375 | D26: 104.544 | E26: 103.28 | H26: 700 - 719 | I26: 0.375 | J26: 0.375 | K26: 0.375 | L26: -0.125 | M26: -1 | N26: -2 | O26: -5 | P26: -8 | Q26: NA | S26: Lock Period | T26: 15 | U26: =IF(T26=15,0,H10) -> 0
C27: =margins!AP22 -> 9.5 | D27: 105 | E27: 103.726 | H27: 680 - 699 | I27: -0.25 | J27: -0.5 | K27: -0.75 | L27: -1 | M27: -3 | N27: -4 | O27: NA | P27: NA | Q27: NA | S27: Pricing Special | T27: Choose a Selection | U27: =IF(T27="Loan Amount >=100,000", 0.5, 0) -> 0
C28: =margins!AP23 -> 9.625 | D28: 105.437 | E28: 104.171 | G28: Full Doc - 1 Year (+ 2 Year Adj) | H28: Full Doc - 1 Year (+ 2 Year Adj) | I28: 0 | J28: 0 | K28: 0 | L28: 0 | M28: -0.125 | N28: -0.125 | O28: -0.125 | P28: -0.25 | Q28: -0.375 | S28: Total LLPAs | U28: =SUM(U16:U27) -> 0
C29: =margins!AP24 -> 9.75 | D29: 105.812 | E29: 104.544 | H29: 800+ | I29: 3 | J29: 2.875 | K29: 2.875 | L29: 2.75 | M29: 2.5 | N29: 2 | O29: 0.875 | P29: -2.25 | Q29: NA
C30: =margins!AP25 -> 9.875 | D30: 106.187 | E30: 105 | H30: 780 - 799 | I30: 3 | J30: 2.875 | K30: 2.875 | L30: 2.625 | M30: 2.25 | N30: 1.375 | O30: 0.5 | P30: -3.125 | Q30: NA | S30: Final Price ---> | U30: =IF(ISNUMBER(MATCH("NA", U16:U27, 0)), "NA", MIN(H8,(U14+U28))) -> 101.25
C31: =margins!AP26 -> 10 | D31: 106.561 | E31: 105.437 | G31: Alt Doc | H31: 760 - 779 | I31: 2 | J31: 1.875 | K31: 1.875 | L31: 1.375 | M31: 1 | N31: 0.75 | O31: -0.5 | P31: -4.25 | Q31: NA
C32: =margins!AP27 -> 10.125 | D32: 106.935 | E32: 105.812 | G32: Bank Statement - 12/24 Months | H32: 740 - 759 | I32: 1.25 | J32: 1.25 | K32: 1.25 | L32: 1 | M32: 0.625 | N32: 0.25 | O32: -1.75 | P32: -6 | Q32: NA | S32: *2nd Pricer is a pricing tool only, please refer to the matrix for eligibility
C33: =margins!AP28 -> 10.25 | D33: 107.308 | E33: 106.187 | G33: 1099 - 12/24 Months | H33: 720 - 739 | I33: 0.875 | J33: 0.875 | K33: 0.875 | L33: 0.5 | M33: 0.125 | N33: -0.5 | O33: -2.75 | P33: NA | Q33: NA
C34: =margins!AP29 -> 10.375 | D34: 107.673 | E34: 106.561 | G34: WVOE | H34: 700 - 719 | I34: 0.125 | J34: 0.125 | K34: 0.125 | L34: -0.375 | M34: -1.25 | N34: -2.25 | O34: -5.5 | P34: NA | Q34: NA
C35: =margins!AP30 -> 10.5 | D35: 108.037 | E35: 106.935 | H35: 680 - 699 | I35: -0.5 | J35: -0.75 | K35: -1 | L35: -1.25 | M35: -3.25 | N35: -4.5 | O35: NA | P35: NA | Q35: NA
C36: =margins!AP31 -> 10.625 | D36: 108.394 | E36: 107.308 | G36: Additional Alt Doc Adj | H36: Bank Statement - 12 Months | I36: 0 | J36: 0 | K36: 0 | L36: 0 | M36: -0.125 | N36: -0.125 | O36: -0.125 | P36: -0.25 | Q36: NA
C37: =margins!AP32 -> 10.75 | D37: 108.751 | E37: 107.673 | H37: 1099 - 12 Months | I37: 0 | J37: 0 | K37: 0 | L37: 0 | M37: -0.125 | N37: -0.125 | O37: -0.125 | P37: -0.25 | Q37: NA
C38: =margins!AP33 -> 10.875 | D38: 109.001 | E38: 108.037 | H38: WVOE | I38: -0.25 | J38: -0.25 | K38: -0.25 | L38: -0.25 | M38: -0.25 | N38: -0.375 | O38: -0.375 | P38: NA | Q38: NA
C39: =margins!AP34 -> 11 | D39: 109.251 | E39: 108.394 | G39: Product | H39: 10yr Fixed | I39: 0.1 | J39: 0.1 | K39: 0.1 | L39: 0.1 | M39: 0.1 | N39: 0.1 | O39: 0.1 | P39: 0.1 | Q39: 0.1
C40: =margins!AP35 -> 11.125 | D40: 109.501 | E40: 108.751 | H40: 15yr Fixed | I40: 0.1 | J40: 0.1 | K40: 0.1 | L40: 0.1 | M40: 0.1 | N40: 0.1 | O40: 0.1 | P40: 0.1 | Q40: 0.1
C41: =margins!AP36 -> 11.25 | D41: 109.851 | E41: 109.001 | H41: 20yr Fixed | I41: 0.1 | J41: 0.1 | K41: 0.1 | L41: 0.1 | M41: 0.1 | N41: 0.1 | O41: 0.1 | P41: 0.1 | Q41: 0.1
C42: =margins!AP37 -> 11.375 | D42: 110.101 | E42: 109.251 | H42: 25yr Fixed | I42: 0.1 | J42: 0.1 | K42: 0.1 | L42: 0.1 | M42: 0.1 | N42: 0.1 | O42: 0.1 | P42: 0.1 | Q42: 0.1
...

Sheet 2nd+Test
J2: Effective Date: | K2: =NOW() -> 46329.345
K3: Wholesale Rate Sheet
L5: Page 2
A10: the2nd+ | O10: *2ndOO+ Pricer
O12: Category | P12: Inputs | Q12: Price
B13: Rate | C13: Full Doc | D13: Alt Doc | F13: MAX PRICE AND LOCK TERM | I13: Program Notes
B14: =margins!AP3 -> 7.125 | C14: 95.252 | D14: NA | F14: Max Price | G14: 100 | I14: 1. UW Fee $999
B15: =margins!AP4 -> 7.25 | C15: 96.127 | D15: NA | F15: 15 Lock Period | G15: 0 | I15: 2. Borrower Paid Comp Only with Max 1.5 pts allowed | O15: Alt Doc | P15: Yes
B16: =margins!AP5 -> 7.375 | C16: 96.939 | D16: NA | F16: 30 Lock Period | G16: -0.375 | O16: Interest Rate ---> | P16: 10 | Q16: =IF(P15="No",VLOOKUP(P16,$B$14:$D$60,2,FALSE),VLOOKUP(P16,$B$14:$D$60,3,FALSE)) -> 105.437
B17: =margins!AP6 -> 7.5 | C17: 97.564 | D17: 95.252 | I17: 3. Lock cutoff 3:00 PM PST | O17: CLTV Range | P17: 75.01-80.00
B18: =margins!AP7 -> 7.625 | C18: 98.064 | D18: 96.127 | I18: 4. Loan must be U/W Approved status to lock | O18: FICO Range FD | P18: 740 - 759 | Q18: =IF(P18="Choose a Selection",0,(INDEX($D$65:$L$71,MATCH(P18,$C$65:$C$71,0),MATCH($P$17,$D$64:$L$64,0),1))) -> -1.75
B19: =margins!AP8 -> 7.75 | C19: 98.564 | D19: 96.939 | F19: Extension Fees | O19: FD 1 Year + 2 Year Adj | P19: Choose a Selection | Q19: =IF(P19="Choose a Selection",0,(INDEX($D$72:$L$72,1,MATCH($P$17,$D$64:$L$64,0),1))) -> 0
B20: =margins!AP9 -> 7.875 | C20: 99.064 | D20: 97.564 | F20: 5 days | G20: -0.25 | O20: FICO Range AD | P20: Choose a Selection | Q20: =IF(P20="Choose a Selection",0,(INDEX($I$29:$Q$35,MATCH(P20,$H$29:$H$35,0),MATCH($T$15,$I$20:$Q$20,0),1))) -> 0
B21: =margins!AP10 -> 8 | C21: 99.564 | D21: 98.064 | F21: 7 days | G21: -0.325 | O21: Add Alt Doc Adj | P21: Choose a Selection | Q21: =IF(P21="Choose a Selection",0,(INDEX($I$21:$Q$55,MATCH(P21,$H$21:$H$55,0),MATCH($T$15,$I$20:$Q$20,0),1))) -> 0
B22: =margins!AP11 -> 8.125 | C22: 100.045 | D22: 98.564 | F22: 10 days | G22: -0.55 | O22: Product | P22: Choose a Selection | Q22: =IF(P22="Choose a Selection",0,(INDEX($I$21:$Q$55,MATCH(P22,$H$21:$H$55,0),MATCH($T$15,$I$20:$Q$20,0),1))) -> 0
B23: =margins!AP12 -> 8.25 | C23: 100.514 | D23: 99.064 | F23: 15 days | G23: -0.65 | O23: Loan Amount | P23: Choose a Selection | Q23: =IF(P23="Choose a Selection",0,(INDEX($I$21:$Q$55,MATCH(P23,$H$21:$H$55,0),MATCH($T$15,$I$20:$Q$20,0),1))) -> 0
B24: =margins!AP13 -> 8.375 | C24: 100.982 | D24: 99.564 | F24: *Extension Max: 15 days | O24: Occupancy | P24: Choose a Selection | Q24: =IF(P24="Choose a Selection",0,(INDEX($I$21:$Q$55,MATCH(P24,$H$21:$H$55,0),MATCH($T$15,$I$20:$Q$20,0),1))) -> 0
B25: =margins!AP14 -> 8.5 | C25: 101.451 | D25: 100.045 | O25: DTI | P25: Choose a Selection | Q25: =IF(P25="Choose a Selection",0,(INDEX($I$21:$Q$55,MATCH(P25,$H$21:$H$55,0),MATCH($T$15,$I$20:$Q$20,0),1))) -> 0
B26: =margins!AP15 -> 8.625 | C26: 101.919 | D26: 100.514 | O26: State 1 | P26: Choose a Selection | Q26: =IF(P26="Choose a Selection",0,(INDEX($I$21:$Q$55,MATCH(P26,$H$21:$H$55,0),MATCH($T$15,$I$20:$Q$20,0),1))) -> 0
B27: =margins!AP16 -> 8.75 | C27: 102.388 | D27: 100.982 | O27: Property Type | P27: Choose a Selection | Q27: =IF(P27="Choose a Selection",0,(INDEX($I$21:$Q$56,MATCH(P27,$H$21:$H$56,0),MATCH($T$15,$I$20:$Q$20,0),1))) -> 0
B28: =margins!AP17 -> 8.875 | C28: 102.834 | D28: 101.451 | O28: Lock Period | P28: Choose a Selection | Q28: =IF(P28=15,0, IF(P28=30, D12, 0)) -> 0
B29: =margins!AP18 -> 9 | C29: 103.28 | D29: 101.919 | O29: Total LLPAs | Q29: =SUM(Q18:Q28) -> -1.75
